BEGIN:VCALENDAR
VERSION:2.0
PRODID:-// - ECPv6.15.20//NONSGML v1.0//EN
CALSCALE:GREGORIAN
METHOD:PUBLISH
X-ORIGINAL-URL:https://lwvw.org
X-WR-CALDESC:Events for 
REFRESH-INTERVAL;VALUE=DURATION:PT1H
X-Robots-Tag:noindex
X-PUBLISHED-TTL:PT1H
BEGIN:VTIMEZONE
TZID:America/New_York
BEGIN:DAYLIGHT
TZOFFSETFROM:-0500
TZOFFSETTO:-0400
TZNAME:EDT
DTSTART:20230312T070000
END:DAYLIGHT
BEGIN:STANDARD
TZOFFSETFROM:-0400
TZOFFSETTO:-0500
TZNAME:EST
DTSTART:20231105T060000
END:STANDARD
BEGIN:DAYLIGHT
TZOFFSETFROM:-0500
TZOFFSETTO:-0400
TZNAME:EDT
DTSTART:20240310T070000
END:DAYLIGHT
BEGIN:STANDARD
TZOFFSETFROM:-0400
TZOFFSETTO:-0500
TZNAME:EST
DTSTART:20241103T060000
END:STANDARD
BEGIN:DAYLIGHT
TZOFFSETFROM:-0500
TZOFFSETTO:-0400
TZNAME:EDT
DTSTART:20250309T070000
END:DAYLIGHT
BEGIN:STANDARD
TZOFFSETFROM:-0400
TZOFFSETTO:-0500
TZNAME:EST
DTSTART:20251102T060000
END:STANDARD
END:VTIMEZONE
BEGIN:VEVENT
DTSTART;TZID=America/New_York:20241016T110000
DTEND;TZID=America/New_York:20241016T140000
DTSTAMP:20260423T231709
CREATED:20240918T193604Z
LAST-MODIFIED:20241009T180637Z
UID:152-1729076400-1729087200@lwvw.org
SUMMARY:LWVW Voting and Disabilities Rights Special Event
DESCRIPTION:Jenna Bainbridge\n\n\n\nREV UP! (Register\, Educate\, Vote\, Use your Power)Topic: Voting and Disabilities RightsCo-sponsored by LWVW and Westchester Disabled on the Move\, Inc.Featured Speaker: Actress Jenna Bainbridge\,currently starring in the Tony Award-winning Broadway musical SuffsWednesday\, October 16\, 2024\, from 11am to 2pmWestchester County CenterConference Room B (ground floor) \n\n\n\n\n\n\n\nVoters with disabilities are part of every community. Yet\, systemic barriers prevent many from accessing their right to vote. Learn about your voting rights\, register to vote\, and apply for absentee or early mail ballots. Event includes refreshments and raffle prizes. \n\n\n\n\n\n\nShare this:PostMore\n				Share on WhatsApp (Opens in new window)\n				WhatsApp\n			Like this:Like Loading...
URL:https://lwvw.org/event/lwvw-voting-and-disabilities-rights-special-event/
LOCATION:Westchester County Center\, 198 Central Avenue\, White Plains\, New York\, 10606
CATEGORIES:Voter Service
ATTACH;FMTTYPE=image/jpeg:https://lwvw.org/wp-content/uploads/2024/07/pexels-photo-5926409-e1722639394958.jpeg
ORGANIZER;CN="League of Women Voters of Westchester":MAILTO:westchesterlwv@gmail.com
END:VEVENT
END:VCALENDAR