BEGIN:VCALENDAR
VERSION:2.0
PRODID:-// - ECPv6.15.20//NONSGML v1.0//EN
CALSCALE:GREGORIAN
METHOD:PUBLISH
X-ORIGINAL-URL:https://lwvw.org
X-WR-CALDESC:Events for 
REFRESH-INTERVAL;VALUE=DURATION:PT1H
X-Robots-Tag:noindex
X-PUBLISHED-TTL:PT1H
BEGIN:VTIMEZONE
TZID:America/New_York
BEGIN:DAYLIGHT
TZOFFSETFROM:-0500
TZOFFSETTO:-0400
TZNAME:EDT
DTSTART:20230312T070000
END:DAYLIGHT
BEGIN:STANDARD
TZOFFSETFROM:-0400
TZOFFSETTO:-0500
TZNAME:EST
DTSTART:20231105T060000
END:STANDARD
BEGIN:DAYLIGHT
TZOFFSETFROM:-0500
TZOFFSETTO:-0400
TZNAME:EDT
DTSTART:20240310T070000
END:DAYLIGHT
BEGIN:STANDARD
TZOFFSETFROM:-0400
TZOFFSETTO:-0500
TZNAME:EST
DTSTART:20241103T060000
END:STANDARD
BEGIN:DAYLIGHT
TZOFFSETFROM:-0500
TZOFFSETTO:-0400
TZNAME:EDT
DTSTART:20250309T070000
END:DAYLIGHT
BEGIN:STANDARD
TZOFFSETFROM:-0400
TZOFFSETTO:-0500
TZNAME:EST
DTSTART:20251102T060000
END:STANDARD
END:VTIMEZONE
BEGIN:VEVENT
DTSTART;TZID=America/New_York:20240314T190000
DTEND;TZID=America/New_York:20240314T200000
DTSTAMP:20260425T091427
CREATED:20240301T120000Z
LAST-MODIFIED:20251010T165538Z
UID:1002-1710442800-1710446400@lwvw.org
SUMMARY:LWVW Voting and Disabilities Rights Special Event
DESCRIPTION:LWVW Voting and Disabilities Rights Special EventCo-sponsored by Westchester Disabled on the Move\, Inc.Rise Up People with Disabilities and Vote!Don’t let others decide your futureThursday\, March 14\, 2024 at 7pmRegister for Zoom Webinar \n\n\n\nAll are welcome to attend this free webinar about NYS voting rights with an emphasis on those with disabilities. \n\n\n\nPanelists\n\n\n\n\nJulia Solow\, Lead New York State Organizer at Hand in Hand: The Network for Domestic Employers\n\n\n\nMartin Cahill\, Legislative Chair for the American Council of the Blind of New York (ACBNY) and Vice President of the Westchester Chapter\n\n\n\nDonna Drumm\, Assistant Professor\, Legal Studies\, Mercy University\n\n\n\n\nLWVW President Kathy Meany will moderate the discussion. \n\n\n\n\n\n\n\n\n\n\n\n\nShare this:PostMore\n				Share on WhatsApp (Opens in new window)\n				WhatsApp\n			Like this:Like Loading...
URL:https://lwvw.org/event/lwvw-voting-and-disabilities-rights-special-event-2/
LOCATION:Online
CATEGORIES:Voter Service
ATTACH;FMTTYPE=image/jpeg:https://lwvw.org/wp-content/uploads/2024/07/pexels-photo-5926409-e1722639394958.jpeg
END:VEVENT
END:VCALENDAR