BEGIN:VCALENDAR
VERSION:2.0
PRODID:-// - ECPv6.15.20//NONSGML v1.0//EN
CALSCALE:GREGORIAN
METHOD:PUBLISH
X-ORIGINAL-URL:https://lwvw.org
X-WR-CALDESC:Events for 
REFRESH-INTERVAL;VALUE=DURATION:PT1H
X-Robots-Tag:noindex
X-PUBLISHED-TTL:PT1H
BEGIN:VTIMEZONE
TZID:America/New_York
BEGIN:DAYLIGHT
TZOFFSETFROM:-0500
TZOFFSETTO:-0400
TZNAME:EDT
DTSTART:20230312T070000
END:DAYLIGHT
BEGIN:STANDARD
TZOFFSETFROM:-0400
TZOFFSETTO:-0500
TZNAME:EST
DTSTART:20231105T060000
END:STANDARD
BEGIN:DAYLIGHT
TZOFFSETFROM:-0500
TZOFFSETTO:-0400
TZNAME:EDT
DTSTART:20240310T070000
END:DAYLIGHT
BEGIN:STANDARD
TZOFFSETFROM:-0400
TZOFFSETTO:-0500
TZNAME:EST
DTSTART:20241103T060000
END:STANDARD
BEGIN:DAYLIGHT
TZOFFSETFROM:-0500
TZOFFSETTO:-0400
TZNAME:EDT
DTSTART:20250309T070000
END:DAYLIGHT
BEGIN:STANDARD
TZOFFSETFROM:-0400
TZOFFSETTO:-0500
TZNAME:EST
DTSTART:20251102T060000
END:STANDARD
END:VTIMEZONE
BEGIN:VEVENT
DTSTART;TZID=America/New_York:20240610T190000
DTEND;TZID=America/New_York:20240610T203000
DTSTAMP:20260422T054943
CREATED:20240509T110008Z
LAST-MODIFIED:20240825T220602Z
UID:377-1718046000-1718051400@lwvw.org
SUMMARY:Democratic Candidate Forum for U.S. Congressional District 16
DESCRIPTION:Save the date for this moderated candidate forum in which an LWVW-trained moderator will pose questions to both Representative Jamaal Bowman and County Executive George Latimer\, who are running in the June democratic primary for CD 16. Registration is required in order to receive the Zoom link. \nRegister for the Event \nPlease submit questions for the candidates using the form below. \nLoading… \n \nShare this:PostMore\n				Share on WhatsApp (Opens in new window)\n				WhatsApp\n			Like this:Like Loading...
URL:https://lwvw.org/event/democratic-candidate-forum-for-u-s-congressional-district-16/
LOCATION:Online
CATEGORIES:Candidate Forum
ATTACH;FMTTYPE=image/jpeg:https://lwvw.org/wp-content/uploads/2024/07/patriotic-bunting-1469321.jpg
END:VEVENT
BEGIN:VEVENT
DTSTART;TZID=America/New_York:20240604T190000
DTEND;TZID=America/New_York:20240604T203000
DTSTAMP:20260422T054943
CREATED:20240509T110037Z
LAST-MODIFIED:20240829T181535Z
UID:506-1717527600-1717533000@lwvw.org
SUMMARY:Democratic Candidate Forum for Westchester County District Attorney
DESCRIPTION:Save the date for this moderated candidate forum in which an LWVW-trained moderator will pose questions to Susan Cacace\, Adeel Mirza\, and William Wagstaff III\, who are running in the June democratic primary for Westchester County DA. Registration is required in order to receive the Zoom link. \n\n\n\n\nRegister for the Event\n\n\n\n\nPlease submit questions for the candidates using the form below. \n\n\n\nLoading… \n\n\n\nLoading…\n\n\n\n \n\n\n\n\n\n\nShare this:PostMore\n				Share on WhatsApp (Opens in new window)\n				WhatsApp\n			Like this:Like Loading...
URL:https://lwvw.org/event/democratic-candidate-forum-for-westchester-county-district-attorney/
LOCATION:Online
CATEGORIES:Candidate Forum
ATTACH;FMTTYPE=image/jpeg:https://lwvw.org/wp-content/uploads/2024/07/patriotic-bunting-1469321.jpg
END:VEVENT
END:VCALENDAR